BEGIN:VCALENDAR
VERSION:2.0
PRODID:-//Comité Régional de Gymnastique Grand Est - ECPv6.15.20//NONSGML v1.0//EN
CALSCALE:GREGORIAN
METHOD:PUBLISH
X-WR-CALNAME:Comité Régional de Gymnastique Grand Est
X-ORIGINAL-URL:https://ffgym-grandest.fr
X-WR-CALDESC:Évènements pour Comité Régional de Gymnastique Grand Est
REFRESH-INTERVAL;VALUE=DURATION:PT1H
X-Robots-Tag:noindex
X-PUBLISHED-TTL:PT1H
BEGIN:VTIMEZONE
TZID:UTC
BEGIN:STANDARD
TZOFFSETFROM:+0000
TZOFFSETTO:+0000
TZNAME:UTC
DTSTART:20240101T000000
END:STANDARD
END:VTIMEZONE
BEGIN:VEVENT
DTSTART;TZID=UTC:20251130T090000
DTEND;TZID=UTC:20251130T170000
DTSTAMP:20260423T102644
CREATED:20250926T133246Z
LAST-MODIFIED:20250926T133318Z
UID:5040-1764493200-1764522000@ffgym-grandest.fr
SUMMARY:Congrès Régional
DESCRIPTION:
URL:https://ffgym-grandest.fr/evenement/5040/
LOCATION:Maison Régionale des Sports\, 13 rue jean Moulin\, Tomblaine\, 54510\, France
CATEGORIES:Assemblée Générale
ATTACH;FMTTYPE=image/jpeg:https://ffgym-grandest.fr/wp-content/uploads/2025/09/Invitation-Assemblee-Generale-CRGGE-2025.jpeg
END:VEVENT
END:VCALENDAR