BEGIN:VCALENDAR
VERSION:2.0
PRODID:-//Comité Régional de Gymnastique Grand Est - ECPv6.15.20//NONSGML v1.0//EN
CALSCALE:GREGORIAN
METHOD:PUBLISH
X-WR-CALNAME:Comité Régional de Gymnastique Grand Est
X-ORIGINAL-URL:https://ffgym-grandest.fr
X-WR-CALDESC:Évènements pour Comité Régional de Gymnastique Grand Est
REFRESH-INTERVAL;VALUE=DURATION:PT1H
X-Robots-Tag:noindex
X-PUBLISHED-TTL:PT1H
BEGIN:VTIMEZONE
TZID:UTC
BEGIN:STANDARD
TZOFFSETFROM:+0000
TZOFFSETTO:+0000
TZNAME:UTC
DTSTART:20240101T000000
END:STANDARD
END:VTIMEZONE
BEGIN:VEVENT
DTSTART;TZID=UTC:20250628T000000
DTEND;TZID=UTC:20250628T235959
DTSTAMP:20260423T002054
CREATED:20250611T153521Z
LAST-MODIFIED:20250611T154624Z
UID:1955-1751068800-1751155199@ffgym-grandest.fr
SUMMARY:Match International GAM France - Belgique - Italie
DESCRIPTION:Le samedi 28 juin à Givet\, assistez à un match international de gymnastique artistique masculine France -Italie – Belgique. Ce rendez-vous promet un spectacle exceptionnel ! Venez nombreux encourager les athlètes et vivre une soirée forte en émotions !N’attendez plus\, la billetterie est déjà ouverte :  \n\n\n\nBILLETTERIE
URL:https://ffgym-grandest.fr/evenement/match-international-gam-france-belgique-italie/
LOCATION:Gymnase Justin Labourey\, 7 bis rue du paradis\, Givet\, 08600\, France
CATEGORIES:Match International
ORGANIZER;CN="Comit%C3%A9 D%C3%A9partemental de Gymnastique des Ardennes":MAILTO:comite.dep.gym08@wanadoo.fr
END:VEVENT
END:VCALENDAR